BEGIN:VCALENDAR
VERSION:2.0
PRODID:-//Teskes Germania - ECPv6.15.20//NONSGML v1.0//EN
CALSCALE:GREGORIAN
METHOD:PUBLISH
X-WR-CALNAME:Teskes Germania
X-ORIGINAL-URL:https://teskes-germania.com
X-WR-CALDESC:Events for Teskes Germania
REFRESH-INTERVAL;VALUE=DURATION:PT1H
X-Robots-Tag:noindex
X-PUBLISHED-TTL:PT1H
BEGIN:VTIMEZONE
TZID:America/Monterrey
BEGIN:STANDARD
TZOFFSETFROM:-0600
TZOFFSETTO:-0600
TZNAME:CST
DTSTART:20240101T000000
END:STANDARD
END:VTIMEZONE
BEGIN:VEVENT
DTSTART;TZID=America/Monterrey:20250815T183000
DTEND;TZID=America/Monterrey:20250815T223000
DTSTAMP:20260423T144026
CREATED:20250612T010406Z
LAST-MODIFIED:20250612T010406Z
UID:3386-1755282600-1755297000@teskes-germania.com
SUMMARY:Live Music In The Beer Garden Featuring - M'sippi Slide - Blues\, Soul\, Classic R&B
DESCRIPTION:
URL:https://teskes-germania.com/event/live-music-in-the-beer-garden-featuring-first-call-jazz-classic-rock-2-2-2-2-2-2-2-2/
LOCATION:Teskes Germania\, 255 N. First Street & Devine\, San Jose\, CA\, 95113\, United States
ORGANIZER;CN="Teskes Germania":MAILTO:gbteskes@me.com
END:VEVENT
BEGIN:VEVENT
DTSTART;TZID=America/Monterrey:20250822T183000
DTEND;TZID=America/Monterrey:20250822T223000
DTSTAMP:20260423T144026
CREATED:20250612T005756Z
LAST-MODIFIED:20250612T005756Z
UID:3377-1755887400-1755901800@teskes-germania.com
SUMMARY:Live Music In The Beer Garden Featuring First Call - Jazz / Classic Rock
DESCRIPTION:
URL:https://teskes-germania.com/event/live-music-in-the-beer-garden-featuring-first-call-jazz-classic-rock-2-2-2-2-2/
LOCATION:Teskes Germania\, 255 N. First Street & Devine\, San Jose\, CA\, 95113\, United States
ORGANIZER;CN="Teskes Germania":MAILTO:gbteskes@me.com
END:VEVENT
BEGIN:VEVENT
DTSTART;TZID=America/Monterrey:20250829T183000
DTEND;TZID=America/Monterrey:20250829T223000
DTSTAMP:20260423T144026
CREATED:20250612T011228Z
LAST-MODIFIED:20250612T011228Z
UID:3398-1756492200-1756506600@teskes-germania.com
SUMMARY:Live Music In The Beer Garden Featuring - The Scot Miller Trio - Jazz / Classic Rock
DESCRIPTION:
URL:https://teskes-germania.com/event/live-music-in-the-beer-garden-featuring-first-call-jazz-classic-rock-2-2-2-2-2-2-2-2-2-2-2-2/
LOCATION:Teskes Germania\, 255 N. First Street & Devine\, San Jose\, CA\, 95113\, United States
ORGANIZER;CN="Teskes Germania":MAILTO:gbteskes@me.com
END:VEVENT
BEGIN:VEVENT
DTSTART;TZID=America/Monterrey:20250830T180000
DTEND;TZID=America/Monterrey:20250830T220000
DTSTAMP:20260423T144026
CREATED:20250612T011814Z
LAST-MODIFIED:20250612T011814Z
UID:3408-1756576800-1756591200@teskes-germania.com
SUMMARY:Sommerfest In The Beer Garden Featuring - The Internationals - Classic German Oktoberfest Music
DESCRIPTION:
URL:https://teskes-germania.com/event/live-music-in-the-beer-garden-featuring-first-call-jazz-classic-rock-2-2-2-2-2-2-2-2-2-2-2-2-2-2-2/
LOCATION:Teskes Germania\, 255 N. First Street & Devine\, San Jose\, CA\, 95113\, United States
ORGANIZER;CN="Teskes Germania":MAILTO:gbteskes@me.com
END:VEVENT
BEGIN:VEVENT
DTSTART;TZID=America/Monterrey:20250905T183000
DTEND;TZID=America/Monterrey:20250905T223000
DTSTAMP:20260423T144026
CREATED:20250612T011302Z
LAST-MODIFIED:20250612T011302Z
UID:3401-1757097000-1757111400@teskes-germania.com
SUMMARY:Live Music In The Beer Garden Featuring - The Scot Miller Trio - Jazz / Classic Rock
DESCRIPTION:
URL:https://teskes-germania.com/event/live-music-in-the-beer-garden-featuring-first-call-jazz-classic-rock-2-2-2-2-2-2-2-2-2-2-2-2-2/
LOCATION:Teskes Germania\, 255 N. First Street & Devine\, San Jose\, CA\, 95113\, United States
ORGANIZER;CN="Teskes Germania":MAILTO:gbteskes@me.com
END:VEVENT
BEGIN:VEVENT
DTSTART;TZID=America/Monterrey:20250912T183000
DTEND;TZID=America/Monterrey:20250912T223000
DTSTAMP:20260423T144026
CREATED:20250612T005843Z
LAST-MODIFIED:20250612T005843Z
UID:3380-1757701800-1757716200@teskes-germania.com
SUMMARY:Live Music In The Beer Garden Featuring First Call - Jazz / Classic Rock
DESCRIPTION:
URL:https://teskes-germania.com/event/live-music-in-the-beer-garden-featuring-first-call-jazz-classic-rock-2-2-2-2-2-2/
LOCATION:Teskes Germania\, 255 N. First Street & Devine\, San Jose\, CA\, 95113\, United States
ORGANIZER;CN="Teskes Germania":MAILTO:gbteskes@me.com
END:VEVENT
BEGIN:VEVENT
DTSTART;TZID=America/Monterrey:20250919T183000
DTEND;TZID=America/Monterrey:20250919T223000
DTSTAMP:20260423T144026
CREATED:20250612T010451Z
LAST-MODIFIED:20250612T010451Z
UID:3389-1758306600-1758321000@teskes-germania.com
SUMMARY:Live Music In The Beer Garden Featuring - M'sippi Slide - Blues\, Soul\, Classic R&B
DESCRIPTION:
URL:https://teskes-germania.com/event/live-music-in-the-beer-garden-featuring-first-call-jazz-classic-rock-2-2-2-2-2-2-2-2-2/
LOCATION:Teskes Germania\, 255 N. First Street & Devine\, San Jose\, CA\, 95113\, United States
ORGANIZER;CN="Teskes Germania":MAILTO:gbteskes@me.com
END:VEVENT
BEGIN:VEVENT
DTSTART;TZID=America/Monterrey:20250926T183000
DTEND;TZID=America/Monterrey:20250926T223000
DTSTAMP:20260423T144026
CREATED:20250612T012551Z
LAST-MODIFIED:20250612T012551Z
UID:3432-1758911400-1758925800@teskes-germania.com
SUMMARY:Live Music In The Beer Garden Featuring – The Scot Miller Trio – Jazz / Classic Rock
DESCRIPTION:
URL:https://teskes-germania.com/event/live-music-in-the-beer-garden-featuring-first-call-jazz-classic-rock-2-2-2-2-2-2-2-2-2-2-2-2-2-2-2-2-2-2-2-2-2-2-2/
LOCATION:Teskes Germania\, 255 N. First Street & Devine\, San Jose\, CA\, 95113\, United States
ORGANIZER;CN="Teskes Germania":MAILTO:gbteskes@me.com
END:VEVENT
BEGIN:VEVENT
DTSTART;TZID=America/Monterrey:20251003T180000
DTEND;TZID=America/Monterrey:20251003T230000
DTSTAMP:20260423T144026
CREATED:20250612T011933Z
LAST-MODIFIED:20250612T011933Z
UID:3411-1759514400-1759532400@teskes-germania.com
SUMMARY:Oktoberfest - Featuring Music By The Internationals - Classic German Oktoberfest Music
DESCRIPTION:
URL:https://teskes-germania.com/event/live-music-in-the-beer-garden-featuring-first-call-jazz-classic-rock-2-2-2-2-2-2-2-2-2-2-2-2-2-2-2-2/
LOCATION:Teskes Germania\, 255 N. First Street & Devine\, San Jose\, CA\, 95113\, United States
ORGANIZER;CN="Teskes Germania":MAILTO:gbteskes@me.com
END:VEVENT
BEGIN:VEVENT
DTSTART;TZID=America/Monterrey:20251010T180000
DTEND;TZID=America/Monterrey:20251010T230000
DTSTAMP:20260423T144026
CREATED:20250612T012010Z
LAST-MODIFIED:20250612T012010Z
UID:3414-1760119200-1760137200@teskes-germania.com
SUMMARY:Oktoberfest - Featuring Music By The Internationals - Classic German Oktoberfest Music
DESCRIPTION:
URL:https://teskes-germania.com/event/live-music-in-the-beer-garden-featuring-first-call-jazz-classic-rock-2-2-2-2-2-2-2-2-2-2-2-2-2-2-2-2-2/
LOCATION:Teskes Germania\, 255 N. First Street & Devine\, San Jose\, CA\, 95113\, United States
ORGANIZER;CN="Teskes Germania":MAILTO:gbteskes@me.com
END:VEVENT
BEGIN:VEVENT
DTSTART;TZID=America/Monterrey:20251017T180000
DTEND;TZID=America/Monterrey:20251017T230000
DTSTAMP:20260423T144026
CREATED:20250612T012044Z
LAST-MODIFIED:20250612T012044Z
UID:3417-1760724000-1760742000@teskes-germania.com
SUMMARY:Oktoberfest - Featuring Music By The Internationals - Classic German Oktoberfest Music
DESCRIPTION:
URL:https://teskes-germania.com/event/live-music-in-the-beer-garden-featuring-first-call-jazz-classic-rock-2-2-2-2-2-2-2-2-2-2-2-2-2-2-2-2-2-2/
LOCATION:Teskes Germania\, 255 N. First Street & Devine\, San Jose\, CA\, 95113\, United States
ORGANIZER;CN="Teskes Germania":MAILTO:gbteskes@me.com
END:VEVENT
BEGIN:VEVENT
DTSTART;TZID=America/Monterrey:20251018T180000
DTEND;TZID=America/Monterrey:20251018T230000
DTSTAMP:20260423T144026
CREATED:20250612T012119Z
LAST-MODIFIED:20250612T012119Z
UID:3420-1760810400-1760828400@teskes-germania.com
SUMMARY:Oktoberfest - Featuring Music By The Internationals - Classic German Oktoberfest Music
DESCRIPTION:
URL:https://teskes-germania.com/event/live-music-in-the-beer-garden-featuring-first-call-jazz-classic-rock-2-2-2-2-2-2-2-2-2-2-2-2-2-2-2-2-2-2-2/
LOCATION:Teskes Germania\, 255 N. First Street & Devine\, San Jose\, CA\, 95113\, United States
ORGANIZER;CN="Teskes Germania":MAILTO:gbteskes@me.com
END:VEVENT
BEGIN:VEVENT
DTSTART;TZID=America/Monterrey:20251024T180000
DTEND;TZID=America/Monterrey:20251024T230000
DTSTAMP:20260423T144026
CREATED:20250612T012154Z
LAST-MODIFIED:20250612T012154Z
UID:3423-1761328800-1761346800@teskes-germania.com
SUMMARY:Oktoberfest - Featuring Music By The Internationals - Classic German Oktoberfest Music
DESCRIPTION:
URL:https://teskes-germania.com/event/live-music-in-the-beer-garden-featuring-first-call-jazz-classic-rock-2-2-2-2-2-2-2-2-2-2-2-2-2-2-2-2-2-2-2-2/
LOCATION:Teskes Germania\, 255 N. First Street & Devine\, San Jose\, CA\, 95113\, United States
ORGANIZER;CN="Teskes Germania":MAILTO:gbteskes@me.com
END:VEVENT
BEGIN:VEVENT
DTSTART;TZID=America/Monterrey:20251025T180000
DTEND;TZID=America/Monterrey:20251025T230000
DTSTAMP:20260423T144026
CREATED:20250612T012227Z
LAST-MODIFIED:20250612T012227Z
UID:3426-1761415200-1761433200@teskes-germania.com
SUMMARY:Oktoberfest - Featuring Music By The Internationals - Classic German Oktoberfest Music
DESCRIPTION:
URL:https://teskes-germania.com/event/live-music-in-the-beer-garden-featuring-first-call-jazz-classic-rock-2-2-2-2-2-2-2-2-2-2-2-2-2-2-2-2-2-2-2-2-2/
LOCATION:Teskes Germania\, 255 N. First Street & Devine\, San Jose\, CA\, 95113\, United States
ORGANIZER;CN="Teskes Germania":MAILTO:gbteskes@me.com
END:VEVENT
BEGIN:VEVENT
DTSTART;TZID=America/Monterrey:20251031T180000
DTEND;TZID=America/Monterrey:20251031T230000
DTSTAMP:20260423T144026
CREATED:20250612T012302Z
LAST-MODIFIED:20250612T012302Z
UID:3429-1761933600-1761951600@teskes-germania.com
SUMMARY:Oktoberfest - Featuring Music By The Internationals - Classic German Oktoberfest Music
DESCRIPTION:
URL:https://teskes-germania.com/event/live-music-in-the-beer-garden-featuring-first-call-jazz-classic-rock-2-2-2-2-2-2-2-2-2-2-2-2-2-2-2-2-2-2-2-2-2-2/
LOCATION:Teskes Germania\, 255 N. First Street & Devine\, San Jose\, CA\, 95113\, United States
ORGANIZER;CN="Teskes Germania":MAILTO:gbteskes@me.com
END:VEVENT
END:VCALENDAR