BEGIN:VCALENDAR
VERSION:2.0
PRODID:-//Teskes Germania - ECPv6.15.20//NONSGML v1.0//EN
CALSCALE:GREGORIAN
METHOD:PUBLISH
X-WR-CALNAME:Teskes Germania
X-ORIGINAL-URL:https://teskes-germania.com
X-WR-CALDESC:Events for Teskes Germania
REFRESH-INTERVAL;VALUE=DURATION:PT1H
X-Robots-Tag:noindex
X-PUBLISHED-TTL:PT1H
BEGIN:VTIMEZONE
TZID:America/Monterrey
BEGIN:STANDARD
TZOFFSETFROM:-0600
TZOFFSETTO:-0600
TZNAME:CST
DTSTART:20240101T000000
END:STANDARD
END:VTIMEZONE
BEGIN:VEVENT
DTSTART;TZID=America/Monterrey:20250620T183000
DTEND;TZID=America/Monterrey:20250620T223000
DTSTAMP:20260423T183041
CREATED:20250612T005430Z
LAST-MODIFIED:20250612T005430Z
UID:3365-1750444200-1750458600@teskes-germania.com
SUMMARY:Live Music In The Beer Garden Featuring First Call - Jazz / Classic Rock
DESCRIPTION:
URL:https://teskes-germania.com/event/live-music-in-the-beer-garden-featuring-first-call-jazz-classic-rock-2/
LOCATION:Teskes Germania\, 255 N. First Street & Devine\, San Jose\, CA\, 95113\, United States
ORGANIZER;CN="Teskes Germania":MAILTO:gbteskes@me.com
END:VEVENT
BEGIN:VEVENT
DTSTART;TZID=America/Monterrey:20250613T183000
DTEND;TZID=America/Monterrey:20250613T223000
DTSTAMP:20260423T183041
CREATED:20250612T004526Z
LAST-MODIFIED:20250612T005328Z
UID:3362-1749839400-1749853800@teskes-germania.com
SUMMARY:Live Music In The Beer Garden Featuring First Call - Jazz / Classic Rock
DESCRIPTION:
URL:https://teskes-germania.com/event/live-music-in-the-beer-garden-featuring-first-call-jazz-classic-rock/
LOCATION:Teskes Germania\, 255 N. First Street & Devine\, San Jose\, CA\, 95113\, United States
ORGANIZER;CN="Teskes Germania":MAILTO:gbteskes@me.com
END:VEVENT
END:VCALENDAR